BEGIN:VCALENDAR
VERSION:2.0
PRODID:-//Hope Community Church : Muncy - ECPv6.3.7//NONSGML v1.0//EN
CALSCALE:GREGORIAN
METHOD:PUBLISH
X-WR-CALNAME:Hope Community Church : Muncy
X-ORIGINAL-URL:https://hopemuncy.com
X-WR-CALDESC:Events for Hope Community Church : Muncy
REFRESH-INTERVAL;VALUE=DURATION:PT1H
X-Robots-Tag:noindex
X-PUBLISHED-TTL:PT1H
BEGIN:VTIMEZONE
TZID:America/New_York
BEGIN:DAYLIGHT
TZOFFSETFROM:-0500
TZOFFSETTO:-0400
TZNAME:EDT
DTSTART:20240310T070000
END:DAYLIGHT
BEGIN:STANDARD
TZOFFSETFROM:-0400
TZOFFSETTO:-0500
TZNAME:EST
DTSTART:20241103T060000
END:STANDARD
END:VTIMEZONE
BEGIN:VEVENT
DTSTART;TZID=America/New_York:20240811T100000
DTEND;TZID=America/New_York:20240811T110000
DTSTAMP:20260422T203452
CREATED:20240728T171730Z
LAST-MODIFIED:20240728T171730Z
UID:4268-1723370400-1723374000@hopemuncy.com
SUMMARY:Ecuador Missions Trip Update
DESCRIPTION:Come join us during our service on 8/11/24 to hear about the work of the Ecuador Missions Team.
URL:https://hopemuncy.com/event/ecuador-missions-trip-update/
LOCATION:Church Building\, 528 South Main St\, Muncy
END:VEVENT
END:VCALENDAR