BEGIN:VCALENDAR
VERSION:2.0
PRODID:-//Hope Community Church : Muncy - ECPv6.3.7//NONSGML v1.0//EN
CALSCALE:GREGORIAN
METHOD:PUBLISH
X-WR-CALNAME:Hope Community Church : Muncy
X-ORIGINAL-URL:https://hopemuncy.com
X-WR-CALDESC:Events for Hope Community Church : Muncy
REFRESH-INTERVAL;VALUE=DURATION:PT1H
X-Robots-Tag:noindex
X-PUBLISHED-TTL:PT1H
BEGIN:VTIMEZONE
TZID:America/New_York
BEGIN:DAYLIGHT
TZOFFSETFROM:-0500
TZOFFSETTO:-0400
TZNAME:EDT
DTSTART:20250309T070000
END:DAYLIGHT
BEGIN:STANDARD
TZOFFSETFROM:-0400
TZOFFSETTO:-0500
TZNAME:EST
DTSTART:20251102T060000
END:STANDARD
END:VTIMEZONE
BEGIN:VEVENT
DTSTART;TZID=America/New_York:20250222T173000
DTEND;TZID=America/New_York:20250222T201500
DTSTAMP:20260422T114458
CREATED:20250209T130740Z
LAST-MODIFIED:20250209T130740Z
UID:4299-1740245400-1740255300@hopemuncy.com
SUMMARY:Love and Laughter Banquet
DESCRIPTION:Come and enjoy and night out including dinner and comedian – Brad Todd. Childcare is provided
URL:https://hopemuncy.com/event/love-and-laughter-banquet/
LOCATION:Church Building\, 528 South Main St\, Muncy
END:VEVENT
END:VCALENDAR