BEGIN:VCALENDAR
VERSION:2.0
PRODID:-//Hope Community Church : Muncy - ECPv6.3.7//NONSGML v1.0//EN
CALSCALE:GREGORIAN
METHOD:PUBLISH
X-WR-CALNAME:Hope Community Church : Muncy
X-ORIGINAL-URL:https://hopemuncy.com
X-WR-CALDESC:Events for Hope Community Church : Muncy
REFRESH-INTERVAL;VALUE=DURATION:PT1H
X-Robots-Tag:noindex
X-PUBLISHED-TTL:PT1H
BEGIN:VTIMEZONE
TZID:America/New_York
BEGIN:DAYLIGHT
TZOFFSETFROM:-0500
TZOFFSETTO:-0400
TZNAME:EDT
DTSTART:20260308T070000
END:DAYLIGHT
BEGIN:STANDARD
TZOFFSETFROM:-0400
TZOFFSETTO:-0500
TZNAME:EST
DTSTART:20261101T060000
END:STANDARD
END:VTIMEZONE
BEGIN:VEVENT
DTSTART;TZID=America/New_York:20260419T110000
DTEND;TZID=America/New_York:20260419T113000
DTSTAMP:20260421T115731
CREATED:20260405T052352Z
LAST-MODIFIED:20260412T050951Z
UID:4591-1776596400-1776598200@hopemuncy.com
SUMMARY:Ecuador Missions Trip Interest Meeting
DESCRIPTION:Interested in the Ecuador missions trip this summer. Join us to learn more information on April 19 immediately after service.
URL:https://hopemuncy.com/event/ecuador-missions-trip-interest-meeting/
LOCATION:Church Building\, 528 South Main St\, Muncy
END:VEVENT
END:VCALENDAR