BEGIN:VCALENDAR
VERSION:2.0
PRODID:-//Hope Community Church : Muncy - ECPv6.3.7//NONSGML v1.0//EN
CALSCALE:GREGORIAN
METHOD:PUBLISH
X-ORIGINAL-URL:https://hopemuncy.com
X-WR-CALDESC:Events for Hope Community Church : Muncy
REFRESH-INTERVAL;VALUE=DURATION:PT1H
X-Robots-Tag:noindex
X-PUBLISHED-TTL:PT1H
BEGIN:VTIMEZONE
TZID:America/New_York
BEGIN:DAYLIGHT
TZOFFSETFROM:-0500
TZOFFSETTO:-0400
TZNAME:EDT
DTSTART:20240310T070000
END:DAYLIGHT
BEGIN:STANDARD
TZOFFSETFROM:-0400
TZOFFSETTO:-0500
TZNAME:EST
DTSTART:20241103T060000
END:STANDARD
END:VTIMEZONE
BEGIN:VEVENT
DTSTART;TZID=America/New_York:20240803T190000
DTEND;TZID=America/New_York:20240803T200000
DTSTAMP:20260422T190515
CREATED:20240728T172155Z
LAST-MODIFIED:20240728T172155Z
UID:4271-1722711600-1722715200@hopemuncy.com
SUMMARY:Kids Family Night
DESCRIPTION:Come hang out with us on Aug 3rd\, 2024 at 7pm during Pops in the Park at Muncy HS Football Field.
URL:https://hopemuncy.com/event/kids-family-night/
LOCATION:Muncy HS Football Field
END:VEVENT
BEGIN:VEVENT
DTSTART;TZID=America/New_York:20240811T100000
DTEND;TZID=America/New_York:20240811T110000
DTSTAMP:20260422T190515
CREATED:20240728T171730Z
LAST-MODIFIED:20240728T171730Z
UID:4268-1723370400-1723374000@hopemuncy.com
SUMMARY:Ecuador Missions Trip Update
DESCRIPTION:Come join us during our service on 8/11/24 to hear about the work of the Ecuador Missions Team.
URL:https://hopemuncy.com/event/ecuador-missions-trip-update/
LOCATION:Church Building\, 528 South Main St\, Muncy
END:VEVENT
BEGIN:VEVENT
DTSTART;TZID=America/New_York:20240818T103000
DTEND;TZID=America/New_York:20240818T120000
DTSTAMP:20260422T190515
CREATED:20240414T185746Z
LAST-MODIFIED:20240728T171845Z
UID:4240-1723977000-1723982400@hopemuncy.com
SUMMARY:Church in the Park
DESCRIPTION:We will be meeting at the Green Street park for our service on Sunday Aug 18 (you can find it in Google maps if you search “Margaret E. Waldron Park“). If you are able to bring a dish to share that would be great. Sign up sheet will be in the lobby.
URL:https://hopemuncy.com/event/4240/
LOCATION:Green Street Park\, 15 Green St\, Muncy\, PA\, 17756
ORGANIZER;CN="Dave Groh":MAILTO:dsgroh@gmail.com
END:VEVENT
END:VCALENDAR