BEGIN:VCALENDAR
VERSION:2.0
PRODID:-//Hope Community Church : Muncy - ECPv6.3.7//NONSGML v1.0//EN
CALSCALE:GREGORIAN
METHOD:PUBLISH
X-ORIGINAL-URL:https://hopemuncy.com
X-WR-CALDESC:Events for Hope Community Church : Muncy
REFRESH-INTERVAL;VALUE=DURATION:PT1H
X-Robots-Tag:noindex
X-PUBLISHED-TTL:PT1H
BEGIN:VTIMEZONE
TZID:America/New_York
BEGIN:DAYLIGHT
TZOFFSETFROM:-0500
TZOFFSETTO:-0400
TZNAME:EDT
DTSTART:20250309T070000
END:DAYLIGHT
BEGIN:STANDARD
TZOFFSETFROM:-0400
TZOFFSETTO:-0500
TZNAME:EST
DTSTART:20251102T060000
END:STANDARD
END:VTIMEZONE
BEGIN:VEVENT
DTSTART;TZID=America/New_York:20250601T080000
DTEND;TZID=America/New_York:20250817T170000
DTSTAMP:20260422T003513
CREATED:20250601T153349Z
LAST-MODIFIED:20250727T032550Z
UID:4323-1748764800-1755450000@hopemuncy.com
SUMMARY:Clothes Drive
DESCRIPTION:Drop off your gently used clothes in the box next to the church
URL:https://hopemuncy.com/event/clothes-drive/
LOCATION:Church Building\, 528 South Main St\, Muncy
ORGANIZER;CN="Joy Barilla":MAILTO:jbarilla25@gmail.com
END:VEVENT
BEGIN:VEVENT
DTSTART;TZID=America/New_York:20250810T113000
DTEND;TZID=America/New_York:20250810T133000
DTSTAMP:20260422T003513
CREATED:20250727T025153Z
LAST-MODIFIED:20250727T025153Z
UID:4350-1754825400-1754832600@hopemuncy.com
SUMMARY:Baptism
DESCRIPTION:Join us for Baptism and lunch on August 10th at 11:30am at Muncy Pool.
URL:https://hopemuncy.com/event/baptism/
LOCATION:Muncy Pool\, 125 New St\, Muncy\, PA\, 17756
ORGANIZER;CN="Brad Peace":MAILTO:bwpeace@gmail.com
END:VEVENT
BEGIN:VEVENT
DTSTART;TZID=America/New_York:20250819T170000
DTEND;TZID=America/New_York:20250819T200000
DTSTAMP:20260422T003513
CREATED:20250706T171532Z
LAST-MODIFIED:20250706T171704Z
UID:4343-1755622800-1755633600@hopemuncy.com
SUMMARY:School Supply Drive
DESCRIPTION:We are giving away free school supplies to bless families. \n \n 
URL:https://hopemuncy.com/event/school-supply-drive/
LOCATION:Church Building\, 528 South Main St\, Muncy
ORGANIZER;CN="Joy Barilla":MAILTO:jbarilla25@gmail.com
END:VEVENT
END:VCALENDAR