BEGIN:VCALENDAR
VERSION:2.0
PRODID:-//Hope Community Church : Muncy - ECPv6.3.7//NONSGML v1.0//EN
CALSCALE:GREGORIAN
METHOD:PUBLISH
X-ORIGINAL-URL:https://hopemuncy.com
X-WR-CALDESC:Events for Hope Community Church : Muncy
REFRESH-INTERVAL;VALUE=DURATION:PT1H
X-Robots-Tag:noindex
X-PUBLISHED-TTL:PT1H
BEGIN:VTIMEZONE
TZID:America/New_York
BEGIN:DAYLIGHT
TZOFFSETFROM:-0500
TZOFFSETTO:-0400
TZNAME:EDT
DTSTART:20250309T070000
END:DAYLIGHT
BEGIN:STANDARD
TZOFFSETFROM:-0400
TZOFFSETTO:-0500
TZNAME:EST
DTSTART:20251102T060000
END:STANDARD
END:VTIMEZONE
BEGIN:VEVENT
DTSTART;TZID=America/New_York:20251003T180000
DTEND;TZID=America/New_York:20251003T200000
DTSTAMP:20260421T211821
CREATED:20250921T042005Z
LAST-MODIFIED:20250921T042005Z
UID:4399-1759514400-1759521600@hopemuncy.com
SUMMARY:Game Night
DESCRIPTION:Come join us on the first Friday of every month to play games. Bring your favorite game to play. Invite friends and neighbors!
URL:https://hopemuncy.com/event/game-night/
LOCATION:Church Building\, 528 South Main St\, Muncy
ORGANIZER;CN="Corey Rand":MAILTO:coreycrand@gmail.com
END:VEVENT
BEGIN:VEVENT
DTSTART;TZID=America/New_York:20251004T070000
DTEND;TZID=America/New_York:20251004T080000
DTSTAMP:20260421T211821
CREATED:20250921T043108Z
LAST-MODIFIED:20250921T043108Z
UID:4410-1759561200-1759564800@hopemuncy.com
SUMMARY:Men's Bible Study
DESCRIPTION:We are going to be reading from the book ‘Becoming a King’ by Morgan Snyder.
URL:https://hopemuncy.com/event/mens-bible-study-2/
LOCATION:Church Building\, 528 South Main St\, Muncy
END:VEVENT
BEGIN:VEVENT
DTSTART;TZID=America/New_York:20251004T093000
DTEND;TZID=America/New_York:20251004T113000
DTSTAMP:20260421T211821
CREATED:20250921T041050Z
LAST-MODIFIED:20250921T041050Z
UID:4393-1759570200-1759577400@hopemuncy.com
SUMMARY:Seekers
DESCRIPTION:Bible Study and Fellowship for 8-12 year olds
URL:https://hopemuncy.com/event/seekers-7/
LOCATION:Church Building\, 528 South Main St\, Muncy
END:VEVENT
BEGIN:VEVENT
DTSTART;TZID=America/New_York:20251009T181500
DTEND;TZID=America/New_York:20251009T193000
DTSTAMP:20260421T211821
CREATED:20250921T042542Z
LAST-MODIFIED:20250921T042542Z
UID:4403-1760033700-1760038200@hopemuncy.com
SUMMARY:Women's Bible Study
DESCRIPTION:The Magnificient Obsession by Anne Graham Lotz. Happens every other Thursday evening. \nBooks are available upon request. Contact Patsy\, Gwyn\, Jaylan or Tam if interested.
URL:https://hopemuncy.com/event/womens-bible-study-2/
LOCATION:Church Building\, 528 South Main St\, Muncy
ORGANIZER;CN="Gwyn Groh":MAILTO:gwyn.groh@gmail.com
END:VEVENT
BEGIN:VEVENT
DTSTART;TZID=America/New_York:20251011T070000
DTEND;TZID=America/New_York:20251011T080000
DTSTAMP:20260421T211821
CREATED:20250921T043149Z
LAST-MODIFIED:20250921T043149Z
UID:4412-1760166000-1760169600@hopemuncy.com
SUMMARY:Men's Bible Study
DESCRIPTION:We are going to be reading from the book ‘Becoming a King’ by Morgan Snyder.
URL:https://hopemuncy.com/event/mens-bible-study-3/
LOCATION:Church Building\, 528 South Main St\, Muncy
END:VEVENT
BEGIN:VEVENT
DTSTART;TZID=America/New_York:20251011T093000
DTEND;TZID=America/New_York:20251011T113000
DTSTAMP:20260421T211821
CREATED:20250921T041425Z
LAST-MODIFIED:20250921T041425Z
UID:4395-1760175000-1760182200@hopemuncy.com
SUMMARY:Seekers
DESCRIPTION:Bible Study and Fellowship for 8-12 year olds
URL:https://hopemuncy.com/event/seekers-8/
LOCATION:Church Building\, 528 South Main St\, Muncy
END:VEVENT
BEGIN:VEVENT
DTSTART;TZID=America/New_York:20251012T110000
DTEND;TZID=America/New_York:20251012T120000
DTSTAMP:20260421T211821
CREATED:20250727T025515Z
LAST-MODIFIED:20250824T133348Z
UID:4354-1760266800-1760270400@hopemuncy.com
SUMMARY:Women's Discipleship Meeting
DESCRIPTION:The next women’s discipleship meeting will be on October 12th after church during lunch. Please bring your ideas\, concerns and questions for discussion. \nContact Deb K or Gwyn to express interest or for more info regarding this ministry.
URL:https://hopemuncy.com/event/womens-discipleship-meeting/
LOCATION:Church Building\, 528 South Main St\, Muncy
ORGANIZER;CN="Gwyn Groh":MAILTO:gwyn.groh@gmail.com
END:VEVENT
BEGIN:VEVENT
DTSTART;TZID=America/New_York:20251018T070000
DTEND;TZID=America/New_York:20251018T080000
DTSTAMP:20260421T211821
CREATED:20250921T043233Z
LAST-MODIFIED:20250921T043233Z
UID:4414-1760770800-1760774400@hopemuncy.com
SUMMARY:Men's Bible Study
DESCRIPTION:We are going to be reading from the book ‘Becoming a King’ by Morgan Snyder.
URL:https://hopemuncy.com/event/mens-bible-study-4/
LOCATION:Church Building\, 528 South Main St\, Muncy
END:VEVENT
BEGIN:VEVENT
DTSTART;TZID=America/New_York:20251018T100000
DTEND;TZID=America/New_York:20251018T120000
DTSTAMP:20260421T211821
CREATED:20250817T073151Z
LAST-MODIFIED:20250817T073151Z
UID:4372-1760781600-1760788800@hopemuncy.com
SUMMARY:Fall Women's Tea
DESCRIPTION:Bring your favorite mug or teacup or use one that will be available there.
URL:https://hopemuncy.com/event/fall-womens-tea-2/
LOCATION:Church Building\, 528 South Main St\, Muncy
ORGANIZER;CN="Gwyn Groh":MAILTO:gwyn.groh@gmail.com
END:VEVENT
BEGIN:VEVENT
DTSTART;TZID=America/New_York:20251018T170000
DTEND;TZID=America/New_York:20251018T210000
DTSTAMP:20260421T211821
CREATED:20250921T040833Z
LAST-MODIFIED:20251011T184254Z
UID:4389-1760806800-1760821200@hopemuncy.com
SUMMARY:Hope's 2nd Annual Harvest Party
DESCRIPTION:It’s a time to connect! Campfire and toasted treats provided. \nBundle up and bring a warm dish or fall dessert to share. \nInvite a Friend if you can! \nSign up to bring a dish or to volunteer using this Link
URL:https://hopemuncy.com/event/hopes-2nd-annual-harvest-party/
LOCATION:Stoltzfuz House\, 2291 Ridge Road\, Montgomery\, PA\, United States
END:VEVENT
BEGIN:VEVENT
DTSTART;TZID=America/New_York:20251023T181500
DTEND;TZID=America/New_York:20251023T193000
DTSTAMP:20260421T211821
CREATED:20250921T042627Z
LAST-MODIFIED:20250921T042627Z
UID:4405-1761243300-1761247800@hopemuncy.com
SUMMARY:Women's Bible Study
DESCRIPTION:The Magnificient Obsession by Anne Graham Lotz. Happens every other Thursday evening. \nBooks are available upon request. Contact Patsy\, Gwyn\, Jaylan or Tam if interested.
URL:https://hopemuncy.com/event/womens-bible-study-3/
LOCATION:Church Building\, 528 South Main St\, Muncy
ORGANIZER;CN="Gwyn Groh":MAILTO:gwyn.groh@gmail.com
END:VEVENT
BEGIN:VEVENT
DTSTART;TZID=America/New_York:20251025T070000
DTEND;TZID=America/New_York:20251025T080000
DTSTAMP:20260421T211821
CREATED:20250921T043306Z
LAST-MODIFIED:20250921T043306Z
UID:4416-1761375600-1761379200@hopemuncy.com
SUMMARY:Men' Bible Study
DESCRIPTION:We are going to be reading from the book ‘Becoming a King’ by Morgan Snyder.
URL:https://hopemuncy.com/event/men-bible-study/
LOCATION:Church Building\, 528 South Main St\, Muncy
END:VEVENT
END:VCALENDAR