BEGIN:VCALENDAR
VERSION:2.0
PRODID:-//Hope Community Church : Muncy - ECPv6.3.7//NONSGML v1.0//EN
CALSCALE:GREGORIAN
METHOD:PUBLISH
X-WR-CALNAME:Hope Community Church : Muncy
X-ORIGINAL-URL:https://hopemuncy.com
X-WR-CALDESC:Events for Hope Community Church : Muncy
REFRESH-INTERVAL;VALUE=DURATION:PT1H
X-Robots-Tag:noindex
X-PUBLISHED-TTL:PT1H
BEGIN:VTIMEZONE
TZID:America/New_York
BEGIN:DAYLIGHT
TZOFFSETFROM:-0500
TZOFFSETTO:-0400
TZNAME:EDT
DTSTART:20250309T070000
END:DAYLIGHT
BEGIN:STANDARD
TZOFFSETFROM:-0400
TZOFFSETTO:-0500
TZNAME:EST
DTSTART:20251102T060000
END:STANDARD
END:VTIMEZONE
BEGIN:VEVENT
DTSTART;TZID=America/New_York:20251101T070000
DTEND;TZID=America/New_York:20251101T080000
DTSTAMP:20260421T193234
CREATED:20251019T162720Z
LAST-MODIFIED:20251019T162720Z
UID:4436-1761980400-1761984000@hopemuncy.com
SUMMARY:Men's Bible Study
DESCRIPTION:We are going to be reading from the book ‘Becoming a King’ by Morgan Snyder.
URL:https://hopemuncy.com/event/mens-bible-study-5/
LOCATION:Church Building\, 528 South Main St\, Muncy
END:VEVENT
BEGIN:VEVENT
DTSTART;TZID=America/New_York:20251101T093000
DTEND;TZID=America/New_York:20251101T113000
DTSTAMP:20260421T193234
CREATED:20250921T041454Z
LAST-MODIFIED:20251011T184347Z
UID:4397-1761989400-1761996600@hopemuncy.com
SUMMARY:Seekers
DESCRIPTION:Bible Study and Fellowship for 8-12 year olds
URL:https://hopemuncy.com/event/seekers-9/
LOCATION:Church Building\, 528 South Main St\, Muncy
END:VEVENT
BEGIN:VEVENT
DTSTART;TZID=America/New_York:20251106T181500
DTEND;TZID=America/New_York:20251106T193000
DTSTAMP:20260421T193234
CREATED:20251019T163041Z
LAST-MODIFIED:20251019T163105Z
UID:4444-1762452900-1762457400@hopemuncy.com
SUMMARY:Women's Bible Study
DESCRIPTION:The Magnificent Obsession by Anne Graham Lotz. Happens every other Thursday evening. \nBooks are available upon request. Contact Patsy\, Gwyn\, Jaylan or Tam if interested.
URL:https://hopemuncy.com/event/womens-bible-study-4/
LOCATION:Church Building\, 528 South Main St\, Muncy
ORGANIZER;CN="Gwyn Groh":MAILTO:gwyn.groh@gmail.com
END:VEVENT
BEGIN:VEVENT
DTSTART;TZID=America/New_York:20251107T180000
DTEND;TZID=America/New_York:20251107T200000
DTSTAMP:20260421T193234
CREATED:20251019T162535Z
LAST-MODIFIED:20251019T162535Z
UID:4434-1762538400-1762545600@hopemuncy.com
SUMMARY:Game Night
DESCRIPTION:Come join us on the first Friday of every month to play games. Bring your favorite game to play. Invite friends and neighbors!
URL:https://hopemuncy.com/event/game-night-2/
LOCATION:Church Building\, 528 South Main St\, Muncy
ORGANIZER;CN="Corey Rand":MAILTO:coreycrand@gmail.com
END:VEVENT
BEGIN:VEVENT
DTSTART;TZID=America/New_York:20251108T070000
DTEND;TZID=America/New_York:20251108T080000
DTSTAMP:20260421T193234
CREATED:20251019T162759Z
LAST-MODIFIED:20251019T162759Z
UID:4438-1762585200-1762588800@hopemuncy.com
SUMMARY:Men's Bible Study
DESCRIPTION:We are going to be reading from the book ‘Becoming a King’ by Morgan Snyder.
URL:https://hopemuncy.com/event/mens-bible-study-6/
LOCATION:Church Building\, 528 South Main St\, Muncy
END:VEVENT
BEGIN:VEVENT
DTSTART;TZID=America/New_York:20251108T093000
DTEND;TZID=America/New_York:20251108T113000
DTSTAMP:20260421T193234
CREATED:20251019T162346Z
LAST-MODIFIED:20251019T162346Z
UID:4429-1762594200-1762601400@hopemuncy.com
SUMMARY:Seekers
DESCRIPTION:Bible Study and Fellowship for 8-12 year olds
URL:https://hopemuncy.com/event/seekers-10/
LOCATION:Church Building\, 528 South Main St\, Muncy
END:VEVENT
BEGIN:VEVENT
DTSTART;TZID=America/New_York:20251115T093000
DTEND;TZID=America/New_York:20251115T113000
DTSTAMP:20260421T193234
CREATED:20251019T162422Z
LAST-MODIFIED:20251019T162422Z
UID:4431-1763199000-1763206200@hopemuncy.com
SUMMARY:Seekers
DESCRIPTION:Bible Study and Fellowship for 8-12 year olds
URL:https://hopemuncy.com/event/seekers-11/
LOCATION:Church Building\, 528 South Main St\, Muncy
END:VEVENT
BEGIN:VEVENT
DTSTART;TZID=America/New_York:20251120T181500
DTEND;TZID=America/New_York:20251120T193000
DTSTAMP:20260421T193234
CREATED:20251019T163151Z
LAST-MODIFIED:20251019T163151Z
UID:4447-1763662500-1763667000@hopemuncy.com
SUMMARY:Women's Bible Study
DESCRIPTION:The Magnificent Obsession by Anne Graham Lotz. Happens every other Thursday evening. \nBooks are available upon request. Contact Patsy\, Gwyn\, Jaylan or Tam if interested.
URL:https://hopemuncy.com/event/womens-bible-study-5/
LOCATION:Church Building\, 528 South Main St\, Muncy
ORGANIZER;CN="Gwyn Groh":MAILTO:gwyn.groh@gmail.com
END:VEVENT
BEGIN:VEVENT
DTSTART;TZID=America/New_York:20251122T093000
DTEND;TZID=America/New_York:20251122T113000
DTSTAMP:20260421T193234
CREATED:20251104T000113Z
LAST-MODIFIED:20251104T000113Z
UID:4451-1763803800-1763811000@hopemuncy.com
SUMMARY:Rake and Run Service Day
DESCRIPTION:If weather allows\, we will head out armed with rakes to serve our neighbors in Muncy. We’ll be going door to door offering to rake fallen leaves and through this show a small demonstration of God’s love through simple acts of kindness. All are welcome to join — kids\, youth\, and parents! Bring gloves\, rakes if you have them\, and a servant’s heart.
URL:https://hopemuncy.com/event/rake-and-run-service-day/
LOCATION:Church Building\, 528 South Main St\, Muncy
ORGANIZER;CN="Corey Rand":MAILTO:coreycrand@gmail.com
END:VEVENT
END:VCALENDAR