BEGIN:VCALENDAR
VERSION:2.0
PRODID:-//Hope Community Church : Muncy - ECPv6.3.7//NONSGML v1.0//EN
CALSCALE:GREGORIAN
METHOD:PUBLISH
X-ORIGINAL-URL:https://hopemuncy.com
X-WR-CALDESC:Events for Hope Community Church : Muncy
REFRESH-INTERVAL;VALUE=DURATION:PT1H
X-Robots-Tag:noindex
X-PUBLISHED-TTL:PT1H
BEGIN:VTIMEZONE
TZID:America/New_York
BEGIN:DAYLIGHT
TZOFFSETFROM:-0500
TZOFFSETTO:-0400
TZNAME:EDT
DTSTART:20260308T070000
END:DAYLIGHT
BEGIN:STANDARD
TZOFFSETFROM:-0400
TZOFFSETTO:-0500
TZNAME:EST
DTSTART:20261101T060000
END:STANDARD
END:VTIMEZONE
BEGIN:VEVENT
DTSTART;TZID=America/New_York:20260102T180000
DTEND;TZID=America/New_York:20260102T200000
DTSTAMP:20260421T153756
CREATED:20251203T173910Z
LAST-MODIFIED:20251203T173910Z
UID:4472-1767376800-1767384000@hopemuncy.com
SUMMARY:Game Night
DESCRIPTION:
URL:https://hopemuncy.com/event/game-night-4/
LOCATION:Church Building\, 528 South Main St\, Muncy
ORGANIZER;CN="Joy Barilla":MAILTO:jbarilla25@gmail.com
END:VEVENT
BEGIN:VEVENT
DTSTART;TZID=America/New_York:20260103T093000
DTEND;TZID=America/New_York:20260103T113000
DTSTAMP:20260421T153756
CREATED:20251203T174050Z
LAST-MODIFIED:20251203T174050Z
UID:4475-1767432600-1767439800@hopemuncy.com
SUMMARY:Seekers
DESCRIPTION:Bible Study and Fellowship for 8-12 year olds
URL:https://hopemuncy.com/event/seekers-15/
LOCATION:Church Building\, 528 South Main St\, Muncy
END:VEVENT
BEGIN:VEVENT
DTSTART;TZID=America/New_York:20260110T093000
DTEND;TZID=America/New_York:20260110T113000
DTSTAMP:20260421T153756
CREATED:20260111T172925Z
LAST-MODIFIED:20260111T172925Z
UID:4498-1768037400-1768044600@hopemuncy.com
SUMMARY:Seekers
DESCRIPTION:Bible Study and Fellowship for 8-12 year olds
URL:https://hopemuncy.com/event/seekers-16/
LOCATION:Church Building\, 528 South Main St\, Muncy
END:VEVENT
BEGIN:VEVENT
DTSTART;TZID=America/New_York:20260117T093000
DTEND;TZID=America/New_York:20260117T113000
DTSTAMP:20260421T153756
CREATED:20260111T173014Z
LAST-MODIFIED:20260111T173014Z
UID:4500-1768642200-1768649400@hopemuncy.com
SUMMARY:Seekers
DESCRIPTION:Bible Study and Fellowship for 8-12 year olds
URL:https://hopemuncy.com/event/seekers-17/
LOCATION:Church Building\, 528 South Main St\, Muncy
END:VEVENT
END:VCALENDAR